BEGIN:VCALENDAR
VERSION:2.0
PRODID:SchoolNow
CALSCALE:GREGORIAN
BEGIN:VEVENT
UID:ae2e6cce-128d-11f1-a439-0affc725f059
DTSTAMP:20260421T211013Z
SUMMARY:DA Meeting
URL;VALUE=URI:https://www.lahabraschools.org/sierravista/calendar/8871218/d
 a-meeting
DTSTART:20260226T010000Z
DTEND:20260226T020000Z
END:VEVENT
END:VCALENDAR
