BEGIN:VCALENDAR
VERSION:2.0
PRODID:SchoolNow
CALSCALE:GREGORIAN
BEGIN:VEVENT
UID:ea6e4050-12c0-11f1-bbb6-0e7d903bdecf
DTSTAMP:20260421T150514Z
SUMMARY:Fieldtrip for Aranda and 1st- Santa Ana zoo
URL;VALUE=URI:https://www.lahabraschools.org/sierravista/calendar/8871909/f
 ieldtrip-for-aranda-and-1st-santa-ana-zoo
DTSTART;VALUE=DATE:20260303
DTEND;VALUE=DATE:20260304
END:VEVENT
END:VCALENDAR
