BEGIN:VCALENDAR
VERSION:2.0
PRODID:SchoolNow
CALSCALE:GREGORIAN
BEGIN:VEVENT
UID:a3f58860-1359-11f1-9b53-021efb74817b
DTSTAMP:20260421T150514Z
SUMMARY:Community Liasion workshop- Rm. 106
URL;VALUE=URI:https://www.lahabraschools.org/sierravista/calendar/8873618/c
 ommunity-liasion-workshop-rm-106
DTSTART:20260330T220000Z
DTEND:20260330T223000Z
END:VEVENT
END:VCALENDAR
