BEGIN:VCALENDAR
VERSION:2.0
PRODID:SchoolNow
CALSCALE:GREGORIAN
BEGIN:VEVENT
UID:8da948ea-1524-11f1-9827-0affe32c4fb5
DTSTAMP:20260421T150515Z
SUMMARY:Bring your own mug club
URL;VALUE=URI:https://www.lahabraschools.org/sierravista/calendar/8879977/b
 ring-your-own-mug-club
DTSTART:20260311T154500Z
DTEND:20260311T163000Z
END:VEVENT
END:VCALENDAR
