BEGIN:VCALENDAR
VERSION:2.0
PRODID:SchoolNow
CALSCALE:GREGORIAN
BEGIN:VEVENT
UID:7121ab3a-1755-11f1-aee2-0affd781cb1f
DTSTAMP:20260421T150515Z
SUMMARY:Pre-order for yearbook sales starts
URL;VALUE=URI:https://www.lahabraschools.org/sierravista/calendar/8888250/p
 re-order-for-yearbook-sales-starts
DTSTART;VALUE=DATE:20260309
DTEND;VALUE=DATE:20260310
END:VEVENT
END:VCALENDAR
