BEGIN:VCALENDAR
VERSION:2.0
PRODID:SchoolNow
CALSCALE:GREGORIAN
BEGIN:VEVENT
UID:95cf7b26-2810-11f1-97c9-025b4112396f
DTSTAMP:20260421T150515Z
SUMMARY:Yogurtland fundraiser for PTA
URL;VALUE=URI:https://www.lahabraschools.org/sierravista/calendar/8943668/y
 ogurtland-fundraiser-for-pta
DTSTART;VALUE=DATE:20260409
DTEND;VALUE=DATE:20260410
END:VEVENT
END:VCALENDAR
