BEGIN:VCALENDAR
VERSION:2.0
PRODID:SchoolNow
CALSCALE:GREGORIAN
BEGIN:VEVENT
UID:791320fe-2a41-11f1-846a-0a58a9feac02
DTSTAMP:20260421T150515Z
SUMMARY:Talent show try outs begin in EPIC
URL;VALUE=URI:https://www.lahabraschools.org/sierravista/calendar/8951733/t
 alent-show-try-outs-begin-in-epic
DTSTART;VALUE=DATE:20260407
DTEND;VALUE=DATE:20260408
END:VEVENT
END:VCALENDAR
