BEGIN:VCALENDAR
VERSION:2.0
PRODID:SchoolNow
CALSCALE:GREGORIAN
BEGIN:VEVENT
UID:791342a0-2a41-11f1-9969-0a58a9feac02
DTSTAMP:20260421T150515Z
SUMMARY:5th grade NEU showcase
URL;VALUE=URI:https://www.lahabraschools.org/sierravista/calendar/8951734/5
 th-grade-neu-showcase
DTSTART:20260501T210000Z
DTEND:20260501T220000Z
END:VEVENT
END:VCALENDAR
