BEGIN:VCALENDAR
VERSION:2.0
PRODID:SchoolNow
CALSCALE:GREGORIAN
BEGIN:VEVENT
UID:7913455c-2a41-11f1-8abc-0a58a9feac02
DTSTAMP:20260421T150515Z
SUMMARY:Coffee with the Principal- State Testing
URL;VALUE=URI:https://www.lahabraschools.org/sierravista/calendar/8951735/c
 offee-with-the-principal-state-testing
DTSTART:20260414T162000Z
DTEND:20260414T165000Z
END:VEVENT
END:VCALENDAR
