BEGIN:VCALENDAR
VERSION:2.0
PRODID:SchoolNow
CALSCALE:GREGORIAN
BEGIN:VEVENT
UID:791346b0-2a41-11f1-8272-0a58a9feac02
DTSTAMP:20260421T150514Z
SUMMARY:SCIENCE CAMP 6th grade
URL;VALUE=URI:https://www.lahabraschools.org/sierravista/calendar/8951736/s
 cience-camp-6th-grade
DTSTART;VALUE=DATE:20260408
DTEND;VALUE=DATE:20260411
END:VEVENT
END:VCALENDAR
