BEGIN:VCALENDAR
VERSION:2.0
PRODID:SchoolNow
CALSCALE:GREGORIAN
BEGIN:VEVENT
UID:79134822-2a41-11f1-8dc6-0a58a9feac02
DTSTAMP:20260421T150515Z
SUMMARY:Kinder caminata- ayers\, picco\, aranda\,
URL;VALUE=URI:https://www.lahabraschools.org/sierravista/calendar/8951737/k
 inder-caminata-ayers-picco-aranda
DTSTART:20260424T151500Z
DTEND:20260424T191500Z
END:VEVENT
END:VCALENDAR
