BEGIN:VCALENDAR
VERSION:2.0
PRODID:SchoolNow
CALSCALE:GREGORIAN
BEGIN:VEVENT
UID:79134ade-2a41-11f1-a4ea-0a58a9feac02
DTSTAMP:20260421T150515Z
SUMMARY:TK/Kinder field trip to centinnel farm
URL;VALUE=URI:https://www.lahabraschools.org/sierravista/calendar/8951738/t
 k-kinder-field-trip-to-centinnel-farm
DTSTART;VALUE=DATE:20260402
DTEND;VALUE=DATE:20260403
END:VEVENT
END:VCALENDAR
