BEGIN:VCALENDAR
VERSION:2.0
PRODID:SchoolNow
CALSCALE:GREGORIAN
BEGIN:VEVENT
UID:5c39ffb4-2ca5-11f1-b0b5-0eb19268d88d
DTSTAMP:20260425T102012Z
SUMMARY:Kindness shirts
URL;VALUE=URI:https://www.lahabraschools.org/sierravista/calendar/8958929/k
 indness-shirts
DTSTART;VALUE=DATE:20271201
DTEND;VALUE=DATE:20271202
END:VEVENT
END:VCALENDAR
