BEGIN:VCALENDAR
VERSION:2.0
PRODID:SchoolNow
CALSCALE:GREGORIAN
BEGIN:VEVENT
UID:54c0965a-2d3e-11f1-bc86-0a58a9feac02
DTSTAMP:20260421T150515Z
SUMMARY:NEU Family Academy- Self esteem
URL;VALUE=URI:https://www.lahabraschools.org/sierravista/calendar/8960953/n
 eu-family-academy-self-esteem
DTSTART:20260427T210000Z
DTEND:20260427T214500Z
END:VEVENT
END:VCALENDAR
