BEGIN:VCALENDAR
VERSION:2.0
PRODID:SchoolNow
CALSCALE:GREGORIAN
BEGIN:VEVENT
UID:54c09ff6-2d3e-11f1-956a-0a58a9feac02
DTSTAMP:20260421T150514Z
SUMMARY:Mug Club-Walk for Wellness
URL;VALUE=URI:https://www.lahabraschools.org/sierravista/calendar/8960954/m
 ug-club-walk-for-wellness
DTSTART:20260408T153000Z
DTEND:20260408T163000Z
END:VEVENT
END:VCALENDAR
