BEGIN:VCALENDAR
VERSION:2.0
PRODID:SchoolNow
CALSCALE:GREGORIAN
BEGIN:VEVENT
UID:54c0a302-2d3e-11f1-a422-0a58a9feac02
DTSTAMP:20260421T150515Z
SUMMARY:Mug club -walk for wellness
URL;VALUE=URI:https://www.lahabraschools.org/sierravista/calendar/8960955/m
 ug-club-walk-for-wellness
DTSTART:20260415T153000Z
DTEND:20260415T163000Z
END:VEVENT
END:VCALENDAR
