BEGIN:VCALENDAR
VERSION:2.0
PRODID:SchoolNow
CALSCALE:GREGORIAN
BEGIN:VEVENT
UID:54ed3d90-2d3e-11f1-8495-0a58a9feac02
DTSTAMP:20260421T150515Z
SUMMARY:Mug Club- walk for wellness
URL;VALUE=URI:https://www.lahabraschools.org/sierravista/calendar/8960956/m
 ug-club-walk-for-wellness
DTSTART:20260422T153000Z
DTEND:20260422T163000Z
END:VEVENT
END:VCALENDAR
