BEGIN:VCALENDAR
VERSION:2.0
PRODID:SchoolNow
CALSCALE:GREGORIAN
BEGIN:VEVENT
UID:54ed41c8-2d3e-11f1-91d9-0a58a9feac02
DTSTAMP:20260421T150514Z
SUMMARY:Conversation Circle- Stress Awareness-Zoom
URL;VALUE=URI:https://www.lahabraschools.org/sierravista/calendar/8960957/c
 onversation-circle-stress-awareness-zoom
DTSTART:20260423T180000Z
DTEND:20260423T190000Z
END:VEVENT
END:VCALENDAR
