BEGIN:VCALENDAR
VERSION:2.0
PRODID:SchoolNow
CALSCALE:GREGORIAN
BEGIN:VEVENT
UID:0855d1c8-3305-11f1-bcd7-021dad59b72d
DTSTAMP:20260425T102012Z
SUMMARY:Kindness shirts
URL;VALUE=URI:https://www.lahabraschools.org/sierravista/calendar/8978354/k
 indness-shirts
DTSTART;VALUE=DATE:20271208
DTEND;VALUE=DATE:20271209
END:VEVENT
END:VCALENDAR
