BEGIN:VCALENDAR
VERSION:2.0
PRODID:SchoolNow
CALSCALE:GREGORIAN
BEGIN:VEVENT
UID:c293465a-3865-11f1-9a43-029a5e1ca9d7
DTSTAMP:20260425T102012Z
SUMMARY:Kindness shirts
URL;VALUE=URI:https://www.lahabraschools.org/sierravista/calendar/8994268/k
 indness-shirts
DTSTART;VALUE=DATE:20271215
DTEND;VALUE=DATE:20271216
END:VEVENT
END:VCALENDAR
