BEGIN:VCALENDAR
VERSION:2.0
PRODID:SchoolNow
CALSCALE:GREGORIAN
BEGIN:VEVENT
UID:b8ab3bf8-3931-11f1-935a-0a58a9feac02
DTSTAMP:20260421T150515Z
SUMMARY:PTA Meeting
URL;VALUE=URI:https://www.lahabraschools.org/sierravista/calendar/8996566/p
 ta-meeting
DTSTART:20260520T013000Z
DTEND:20260520T023000Z
END:VEVENT
END:VCALENDAR
