BEGIN:VCALENDAR
VERSION:2.0
PRODID:SchoolNow
CALSCALE:GREGORIAN
BEGIN:VEVENT
UID:b9083132-3931-11f1-9a92-0a58a9feac02
DTSTAMP:20260421T150515Z
SUMMARY:Talent Show
URL;VALUE=URI:https://www.lahabraschools.org/sierravista/calendar/8996568/t
 alent-show
DTSTART:20260526T173000Z
DTEND:20260526T183000Z
END:VEVENT
END:VCALENDAR
