BEGIN:VCALENDAR
VERSION:2.0
PRODID:SchoolNow
CALSCALE:GREGORIAN
BEGIN:VEVENT
UID:9202d36c-3c2e-11f1-b68c-0a58a9feac02
DTSTAMP:20260421T150514Z
SUMMARY:Student Showcase
URL;VALUE=URI:https://www.lahabraschools.org/sierravista/calendar/9005197/s
 tudent-showcase
DTSTART:20260424T000000Z
DTEND:20260424T013000Z
END:VEVENT
END:VCALENDAR
