BEGIN:VCALENDAR
VERSION:2.0
PRODID:SchoolNow
CALSCALE:GREGORIAN
BEGIN:VEVENT
UID:87c5ecbe-3cfa-11f1-888b-0a58a9feac02
DTSTAMP:20260421T150514Z
SUMMARY:District Art Show
LOCATION:Washington Middle School\, 716 E La Habra Blvd\, La Habra\, CA 906
 31\, USA
URL;VALUE=URI:https://www.lahabraschools.org/sierravista/calendar/9007530/d
 istrict-art-show
DTSTART:20260429T220000Z
DTEND:20260430T010000Z
END:VEVENT
END:VCALENDAR
