BEGIN:VCALENDAR
VERSION:2.0
PRODID:SchoolNow
CALSCALE:GREGORIAN
BEGIN:VEVENT
UID:7a22e5a8-3df9-11f1-b2a1-0a58a9feac02
DTSTAMP:20260425T102012Z
SUMMARY:Kindness shirts
URL;VALUE=URI:https://www.lahabraschools.org/sierravista/calendar/9010235/k
 indness-shirts
DTSTART;VALUE=DATE:20271222
DTEND;VALUE=DATE:20271223
END:VEVENT
END:VCALENDAR
