BEGIN:VCALENDAR
VERSION:2.0
PRODID:SchoolNow
CALSCALE:GREGORIAN
BEGIN:VEVENT
UID:72ac115c-3e92-11f1-b431-0e1e15a966d7
DTSTAMP:20260425T102012Z
SUMMARY:Fundraiser items will be delivered
URL;VALUE=URI:https://www.lahabraschools.org/sierravista/calendar/9011720/f
 undraiser-items-will-be-delivered
DTSTART;VALUE=DATE:20260429
DTEND;VALUE=DATE:20260430
END:VEVENT
END:VCALENDAR
