BEGIN:VCALENDAR
VERSION:2.0
PRODID:SchoolNow
CALSCALE:GREGORIAN
BEGIN:VEVENT
UID:fa1b2c5a-7a15-11f0-889f-023025444627
DTSTAMP:20251216T214543Z
SUMMARY:PTA Meeting
URL;VALUE=URI:https://www.lahabraschools.org/walnut/calendar/8511197/pta-me
 eting
DTSTART:20250822T213000Z
DTEND:20250822T223000Z
END:VEVENT
END:VCALENDAR
