BEGIN:VCALENDAR
VERSION:2.0
PRODID:SchoolNow
CALSCALE:GREGORIAN
BEGIN:VEVENT
UID:b052e362-7fa9-11f0-80b1-0ef2953e28ff
DTSTAMP:20251216T214543Z
SUMMARY:Ice Cream Social
URL;VALUE=URI:https://www.lahabraschools.org/walnut/calendar/8533809/ice-cr
 eam-social
DTSTART:20250829T003000Z
DTEND:20250829T013000Z
END:VEVENT
END:VCALENDAR
