BEGIN:VCALENDAR
VERSION:2.0
PRODID:SchoolNow
CALSCALE:GREGORIAN
BEGIN:VEVENT
UID:b053052c-7fa9-11f0-8cba-0ef2953e28ff
DTSTAMP:20251216T214543Z
SUMMARY:Fall Picture Day
URL;VALUE=URI:https://www.lahabraschools.org/walnut/calendar/8533810/fall-p
 icture-day
DTSTART;VALUE=DATE:20250903
DTEND;VALUE=DATE:20250904
END:VEVENT
END:VCALENDAR
