BEGIN:VCALENDAR
VERSION:2.0
PRODID:SchoolNow
CALSCALE:GREGORIAN
BEGIN:VEVENT
UID:b05306e4-7fa9-11f0-905a-0ef2953e28ff
DTSTAMP:20251216T214543Z
SUMMARY:Holiday - Labor Day
URL;VALUE=URI:https://www.lahabraschools.org/walnut/calendar/8533811/holida
 y-labor-day
DTSTART;VALUE=DATE:20250901
DTEND;VALUE=DATE:20250902
END:VEVENT
END:VCALENDAR
