BEGIN:VCALENDAR
VERSION:2.0
PRODID:SchoolNow
CALSCALE:GREGORIAN
BEGIN:VEVENT
UID:be0d88f0-84a3-11f0-957b-0a58a9feac02
DTSTAMP:20251216T214543Z
SUMMARY:Coffee with the Principal
URL;VALUE=URI:https://www.lahabraschools.org/walnut/calendar/8556921/coffee
 -with-the-principal
DTSTART:20250910T151500Z
DTEND:20250910T161500Z
END:VEVENT
END:VCALENDAR
