BEGIN:VCALENDAR
VERSION:2.0
PRODID:SchoolNow
CALSCALE:GREGORIAN
BEGIN:VEVENT
UID:76c8d942-8a37-11f0-a315-0a58a9feac02
DTSTAMP:20251216T214543Z
SUMMARY:PTA Meeting
URL;VALUE=URI:https://www.lahabraschools.org/walnut/calendar/8583263/pta-me
 eting
DTSTART:20250919T214500Z
DTEND:20250919T224500Z
END:VEVENT
END:VCALENDAR
