BEGIN:VCALENDAR
VERSION:2.0
PRODID:SchoolNow
CALSCALE:GREGORIAN
BEGIN:VEVENT
UID:0f828cd4-91fc-11f0-951c-0a58a9feac02
DTSTAMP:20251216T214543Z
SUMMARY:Bargain Book Blast- PTA
LOCATION:MPR
URL;VALUE=URI:https://www.lahabraschools.org/walnut/calendar/8622898/bargai
 n-book-blast-pta
DTSTART:20250925T153000Z
DTEND:20250925T173000Z
END:VEVENT
END:VCALENDAR
