BEGIN:VCALENDAR
VERSION:2.0
PRODID:SchoolNow
CALSCALE:GREGORIAN
BEGIN:VEVENT
UID:04b23c9a-932e-11f0-b577-0a58a9feac02
DTSTAMP:20251216T214543Z
SUMMARY:Color Run - PTA
URL;VALUE=URI:https://www.lahabraschools.org/walnut/calendar/8629123/color-
 run-pta
DTSTART:20250925T191500Z
DTEND:20250925T211500Z
END:VEVENT
END:VCALENDAR
