BEGIN:VCALENDAR
VERSION:2.0
PRODID:SchoolNow
CALSCALE:GREGORIAN
BEGIN:VEVENT
UID:04b2400a-932e-11f0-bfd3-0a58a9feac02
DTSTAMP:20251216T214543Z
SUMMARY:SSC Meeting #1
URL;VALUE=URI:https://www.lahabraschools.org/walnut/calendar/8629124/ssc-me
 eting-1
DTSTART:20250923T214500Z
DTEND:20250923T224500Z
END:VEVENT
END:VCALENDAR
