BEGIN:VCALENDAR
VERSION:2.0
PRODID:SchoolNow
CALSCALE:GREGORIAN
BEGIN:VEVENT
UID:c6f45ee8-97f5-11f0-90d6-0eeeec3e276b
DTSTAMP:20251216T214543Z
SUMMARY:6th grade science camp parent information meeting
URL;VALUE=URI:https://www.lahabraschools.org/walnut/calendar/8653336/6th-gr
 ade-science-camp-parent-information-meeting
DTSTART:20251017T003000Z
DTEND:20251017T013000Z
END:VEVENT
END:VCALENDAR
