BEGIN:VCALENDAR
VERSION:2.0
PRODID:SchoolNow
CALSCALE:GREGORIAN
BEGIN:VEVENT
UID:56f35d5a-a020-11f0-a766-0a58a9feac02
DTSTAMP:20251216T214543Z
SUMMARY:Coffee with the Principal (Spyder Lab)
URL;VALUE=URI:https://www.lahabraschools.org/walnut/calendar/8690019/coffee
 -with-the-principal-spyder-lab
DTSTART:20251008T151500Z
DTEND:20251008T161500Z
END:VEVENT
END:VCALENDAR
