BEGIN:VCALENDAR
VERSION:2.0
PRODID:SchoolNow
CALSCALE:GREGORIAN
BEGIN:VEVENT
UID:56f36098-a020-11f0-b452-0a58a9feac02
DTSTAMP:20251216T214543Z
SUMMARY:Make-Up Picture Day
URL;VALUE=URI:https://www.lahabraschools.org/walnut/calendar/8690020/make-u
 p-picture-day
DTSTART;VALUE=DATE:20251015
DTEND;VALUE=DATE:20251016
END:VEVENT
END:VCALENDAR
