BEGIN:VCALENDAR
VERSION:2.0
PRODID:SchoolNow
CALSCALE:GREGORIAN
BEGIN:VEVENT
UID:105fbf3e-a5b4-11f0-8182-0a58a9feac02
DTSTAMP:20251216T214543Z
SUMMARY:Costume Parade
URL;VALUE=URI:https://www.lahabraschools.org/walnut/calendar/8710821/costum
 e-parade
DTSTART:20251031T161500Z
DTEND:20251031T164500Z
END:VEVENT
END:VCALENDAR
