BEGIN:VCALENDAR
VERSION:2.0
PRODID:SchoolNow
CALSCALE:GREGORIAN
BEGIN:VEVENT
UID:e2ce14be-a949-11f0-9d50-029059f8636b
DTSTAMP:20251216T214543Z
SUMMARY:ELAC Meeting #1
URL;VALUE=URI:https://www.lahabraschools.org/walnut/calendar/8722353/elac-m
 eeting-1
DTSTART:20251022T151500Z
DTEND:20251022T161500Z
END:VEVENT
END:VCALENDAR
