BEGIN:VCALENDAR
VERSION:2.0
PRODID:SchoolNow
CALSCALE:GREGORIAN
BEGIN:VEVENT
UID:c8f4fbee-ae2a-11f0-a5ff-0a58a9feac02
DTSTAMP:20251216T214543Z
SUMMARY:Trunk or Treat
URL;VALUE=URI:https://www.lahabraschools.org/walnut/calendar/8737212/trunk-
 or-treat
DTSTART:20251025T000000Z
DTEND:20251025T010000Z
END:VEVENT
END:VCALENDAR
