BEGIN:VCALENDAR
VERSION:2.0
PRODID:SchoolNow
CALSCALE:GREGORIAN
BEGIN:VEVENT
UID:b7eecd8c-af8f-11f0-b11f-0a58a9feac02
DTSTAMP:20251216T214543Z
SUMMARY:Staff Development Day - No School
URL;VALUE=URI:https://www.lahabraschools.org/walnut/calendar/8743237/staff-
 development-day-no-school
DTSTART;VALUE=DATE:20251103
DTEND;VALUE=DATE:20251104
END:VEVENT
END:VCALENDAR
