BEGIN:VCALENDAR
VERSION:2.0
PRODID:SchoolNow
CALSCALE:GREGORIAN
BEGIN:VEVENT
UID:a8155e20-b0c1-11f0-98cc-0a58a9feac02
DTSTAMP:20251216T214543Z
SUMMARY:Bargain Book Blast
URL;VALUE=URI:https://www.lahabraschools.org/walnut/calendar/8746648/bargai
 n-book-blast
DTSTART:20251030T153000Z
DTEND:20251030T173000Z
END:VEVENT
END:VCALENDAR
