BEGIN:VCALENDAR
VERSION:2.0
PRODID:SchoolNow
CALSCALE:GREGORIAN
BEGIN:VEVENT
UID:61130872-b622-11f0-a34d-0e68296a72d1
DTSTAMP:20251216T214543Z
SUMMARY:PTA Meeting-
URL;VALUE=URI:https://www.lahabraschools.org/walnut/calendar/8762998/pta-me
 eting
DTSTART:20251107T161500Z
DTEND:20251107T171500Z
END:VEVENT
END:VCALENDAR
