BEGIN:VCALENDAR
VERSION:2.0
PRODID:SchoolNow
CALSCALE:GREGORIAN
BEGIN:VEVENT
UID:61132a8c-b622-11f0-a85a-0e68296a72d1
DTSTAMP:20251216T214543Z
SUMMARY:Field Trip to Fullerton College
URL;VALUE=URI:https://www.lahabraschools.org/walnut/calendar/8762999/field-
 trip-to-fullerton-college
DTSTART:20251110T164500Z
DTEND:20251110T194500Z
END:VEVENT
END:VCALENDAR
