BEGIN:VCALENDAR
VERSION:2.0
PRODID:SchoolNow
CALSCALE:GREGORIAN
BEGIN:VEVENT
UID:4495b852-b91f-11f0-8ae9-0a58a9feac02
DTSTAMP:20251216T214543Z
SUMMARY:STEAM Family Night
URL;VALUE=URI:https://www.lahabraschools.org/walnut/calendar/8774295/steam-
 family-night
DTSTART:20251120T013000Z
DTEND:20251120T030000Z
END:VEVENT
END:VCALENDAR
