BEGIN:VCALENDAR
VERSION:2.0
PRODID:SchoolNow
CALSCALE:GREGORIAN
BEGIN:VEVENT
UID:21718612-bc1c-11f0-b679-0affea86061f
DTSTAMP:20251216T214543Z
SUMMARY:PTA- Movie Night
URL;VALUE=URI:https://www.lahabraschools.org/walnut/calendar/8783362/pta-mo
 vie-night
DTSTART:20251218T020000Z
DTEND:20251218T033000Z
END:VEVENT
END:VCALENDAR
