BEGIN:VCALENDAR
VERSION:2.0
PRODID:SchoolNow
CALSCALE:GREGORIAN
BEGIN:VEVENT
UID:e8e00c78-c04a-11f0-b786-0a58a9feac02
DTSTAMP:20251216T214543Z
SUMMARY:Walnut > Bowers Museum
URL;VALUE=URI:https://www.lahabraschools.org/walnut/calendar/8792847/walnut
 -bowers-museum
DTSTART:20251120T161500Z
DTEND:20251120T201500Z
END:VEVENT
END:VCALENDAR
