BEGIN:VCALENDAR
VERSION:2.0
PRODID:SchoolNow
CALSCALE:GREGORIAN
BEGIN:VEVENT
UID:e8e02c6c-c04a-11f0-801e-0a58a9feac02
DTSTAMP:20251216T214543Z
SUMMARY:Bargain Book Blast
URL;VALUE=URI:https://www.lahabraschools.org/walnut/calendar/8792848/bargai
 n-book-blast
DTSTART:20251120T163000Z
DTEND:20251120T183000Z
END:VEVENT
END:VCALENDAR
