BEGIN:VCALENDAR
VERSION:2.0
PRODID:SchoolNow
CALSCALE:GREGORIAN
BEGIN:VEVENT
UID:e8e02eec-c04a-11f0-b972-0a58a9feac02
DTSTAMP:20251216T214543Z
SUMMARY:Trimester Awards
URL;VALUE=URI:https://www.lahabraschools.org/walnut/calendar/8792849/trimes
 ter-awards
DTSTART:20251117T161500Z
DTEND:20251117T224500Z
END:VEVENT
END:VCALENDAR
